BEGIN:VCALENDAR
VERSION:2.0
PRODID:-//Espace Paul Jargot - ECPv6.3.0//NONSGML v1.0//EN
CALSCALE:GREGORIAN
METHOD:PUBLISH
X-ORIGINAL-URL:https://espacepauljargot.crolles.fr
X-WR-CALDESC:évènements pour Espace Paul Jargot
REFRESH-INTERVAL;VALUE=DURATION:PT1H
X-Robots-Tag:noindex
X-PUBLISHED-TTL:PT1H
BEGIN:VTIMEZONE
TZID:Europe/Paris
BEGIN:DAYLIGHT
TZOFFSETFROM:+0100
TZOFFSETTO:+0200
TZNAME:CEST
DTSTART:20230326T010000
END:DAYLIGHT
BEGIN:STANDARD
TZOFFSETFROM:+0200
TZOFFSETTO:+0100
TZNAME:CET
DTSTART:20231029T010000
END:STANDARD
END:VTIMEZONE
BEGIN:VEVENT
DTSTART;TZID=Europe/Paris:20231110T193000
DTEND;TZID=Europe/Paris:20231110T193000
DTSTAMP:20260423T020827
CREATED:20230915T214927Z
LAST-MODIFIED:20231108T174445Z
UID:2421-1699644600-1699644600@espacepauljargot.crolles.fr
SUMMARY:10 ans d'itinérance musicale\, La Tournée des Refuges
DESCRIPTION:  \nLes uns se couchent à l’heure ou d’autres se lèvent\, les premiers sortent peu des villes et les seconds rarement des montagnes. Créée en 2013 par Gaspard Panfiloff\, enfant du Taillefer désireux de concilier ses deux passions au quotidien\, La Tournée des Refuges consiste en une série de concerts en montagne\, les musiciens se déplaçant à pied avec leurs instruments sur le dos. Chaque soir\, ils sont accueillis dans un lieu différent\, refuge en altitude\, salle de concert\, église\, festival en vallée.\nAprès une décennie d’existence\, d’expériences musicales et de sentiers parcourus\, le collectif souhaite fêter cette aventure en rassemblant une douzaine d’artistes sur scène pour une création unique qui met l’accent sur leur identité musicale et leur donne à explorer de nouvelles directions pour l’avenir.\nAu terme de 10 jours de résidence\, ils vous offriront\, au complet sur la scène de l’Espace Paul Jargot\, leurs dernières créations et le meilleur de leurs voyages musicaux au fil des refuges du monde… \n  \nLa Tournée des Refuges\, ce sont aussi des formats plus intimistes\, à voir tout près de chez vous ! \nA l’image de la tournée estivale\, les musiciens au cœur du projet vont à la rencontre du public dans les villages du territoire\, en formation plus intimiste\, de jazz en musiques populaires en passant par les musiques du monde et les compositions originales:\nMardi 7 novembre 20h30 Crolles – Au Perchoir – Prix libre \nVendredi 27 octobre 20h Le Cheylas \nSamedi 13 janvier 20h Tencin\nDimanche 14 janvier 20h La Combe de Lancey\nDans le cadre de Echos\, Tous au spectacle ! Tournée dans le Grésivaudan \nTarif 2Kg de culture \n  \n\n 
URL:https://espacepauljargot.crolles.fr/info-evenement/10-ans-ditinerance-musicale-la-tournee-des-refuges/
LOCATION:Espace Paul Jargot\, 191 Rue François Mitterrand\, Crolles\, 38920\, France
CATEGORIES:Musique,Séance scolaire,Tous les spectacles
ATTACH;FMTTYPE=image/jpeg:https://espacepauljargot.crolles.fr/wp-content/uploads/2023/09/tournee.jpg
END:VEVENT
BEGIN:VEVENT
DTSTART;TZID=Europe/Paris:20231124T193000
DTEND;TZID=Europe/Paris:20231124T193000
DTSTAMP:20260423T020827
CREATED:20230915T214931Z
LAST-MODIFIED:20230915T214931Z
UID:2431-1700854200-1700854200@espacepauljargot.crolles.fr
SUMMARY:Crin blanc\, Cie Anaya
DESCRIPTION:D’après le film Crin blanc d’Albert Lamorisse\, 1953 \nDans le cadre du festival Le tympan dans l’oeil et du festival des solidarités. \n  \nCrin blanc\, chef de la meute de chevaux sauvages camarguais\, parvient à se libérer des hommes qui l’ont capturé. Il croise alors le chemin de Folco\, petit garçon tout aussi sauvage que lui ; leur besoin commun de liberté scelle le début d’une puissante amitié\, que rien ne peut entacher.\nConsidéré comme un chef-d’œuvre du film pour enfants\, 70 ans après sa sortie\, Crin blanc continue de fasciner les jeunes générations par la beauté de ses images. Servi par une bande originale contemporaine\, créée spécialement dans un univers proche du rock et jouée en live\, le film fait écho à la Camargue d’aujourd’hui qui ne compte plus aucun cheval sauvage\, et dont les écosystèmes fragiles doivent sans cesse être maintenus en un équilibre subtil. Un appel à retrouver notre lien viscéral et nécessaire à une nature incroyable de beauté. \n  \nÀ la fois beau\, puissant et émouvant\, ce ciné-concert montre une relation de l’homme à la nature\, simple et inclusive. À ne pas rater – TTT Télérama \n 
URL:https://espacepauljargot.crolles.fr/info-evenement/crin-blanc-cie-anaya/
LOCATION:Espace Paul Jargot\, 191 Rue François Mitterrand\, Crolles\, 38920\, France
CATEGORIES:Ciné-concert,Les spectacles,Séance scolaire,Tous les spectacles
ATTACH;FMTTYPE=image/jpeg:https://espacepauljargot.crolles.fr/wp-content/uploads/2023/09/Crin-Blanc.jpg
END:VEVENT
END:VCALENDAR