BEGIN:VCALENDAR
VERSION:2.0
PRODID:-//Espace Paul Jargot - ECPv6.3.0//NONSGML v1.0//EN
CALSCALE:GREGORIAN
METHOD:PUBLISH
X-ORIGINAL-URL:https://espacepauljargot.crolles.fr
X-WR-CALDESC:évènements pour Espace Paul Jargot
REFRESH-INTERVAL;VALUE=DURATION:PT1H
X-Robots-Tag:noindex
X-PUBLISHED-TTL:PT1H
BEGIN:VTIMEZONE
TZID:Europe/Paris
BEGIN:DAYLIGHT
TZOFFSETFROM:+0100
TZOFFSETTO:+0200
TZNAME:CEST
DTSTART:20230326T010000
END:DAYLIGHT
BEGIN:STANDARD
TZOFFSETFROM:+0200
TZOFFSETTO:+0100
TZNAME:CET
DTSTART:20231029T010000
END:STANDARD
END:VTIMEZONE
BEGIN:VEVENT
DTSTART;TZID=Europe/Paris:20230311T183000
DTEND;TZID=Europe/Paris:20230311T183000
DTSTAMP:20260423T122829
CREATED:20220708T070919Z
LAST-MODIFIED:20220916T232142Z
UID:1708-1678559400-1678559400@espacepauljargot.crolles.fr
SUMMARY:Traversée\, par la Cie Infini Dehors
DESCRIPTION:D’après Traversée\, d’Estelle Savasta (L’École des Loisirs\, 2013)  \nDepuis toujours\, Nour vit avec sa mère adoptive\, Youmna\, dans le cocon de leur petite maison. Elles partagent la langue des signes et aussi le secret qu’un jour la véritable mère de Nour lui écrira pour dire de la rejoindre. Dans ce nouveau pays la vie sera meilleure\, elle pourra aller à l’école\, apprendre un métier et devenir femme. Quand la lettre arrive\, Nour doit traverser. Déguisée en garçon\, de passeur en passeur\, elle traverse le monde et conserve avec elle la petite boîte que Youmna lui a demandé de n’ouvrir que le premier jour\, heureux\, de sa vie de femme. Cette boîte\, Nour l’ouvre lorsqu’après d’innombrables péripéties elle obtient ses papiers comme un gage de liberté ; elle contient une lettre de Youmna…  \n 
URL:https://espacepauljargot.crolles.fr/info-evenement/traversee-par-la-cie-infini-dehors/
LOCATION:Espace Paul Jargot\, 191 Rue François Mitterrand\, Crolles\, 38920\, France
CATEGORIES:Les spectacles,Séance scolaire,Théâtre,Tous les spectacles
ATTACH;FMTTYPE=image/jpeg:https://espacepauljargot.crolles.fr/wp-content/uploads/2022/07/traversee.jpg
END:VEVENT
BEGIN:VEVENT
DTSTART;TZID=Europe/Paris:20230329T163000
DTEND;TZID=Europe/Paris:20230329T163000
DTSTAMP:20260423T122829
CREATED:20220916T231301Z
LAST-MODIFIED:20221213T164142Z
UID:1832-1680107400-1680107400@espacepauljargot.crolles.fr
SUMMARY:La petite poule qui voulait voir la mer
DESCRIPTION:[ATTENTION – Changement de date par rapport à celle annoncée en début de saison] \nCompagnie Rhapsodies Nomades\, d’après La petite poule qui voulait voir la mer de C. Jolibois et C. Heinrich \nLa presse en parle :\nLes plus petits tomberont sous le charme des scènes contemplatives (la mer poissonnière est simplement sublime) et les plus grands auront le plaisir des jeux de scènes et des péripéties. Lagrandeparade.fr\, Bruno Paternot \nPondre\, pondre… Toujours pondre ! Il y a des choses plus intéressantes à faire dans la vie ; moi\, je veux voir la mer ! Carméla\, la petite poule\, ne veut pas aller se coucher comme les poules\, Carmela veut faire autre choser dans la vie qu’apprendre à pondre. Carméla aime écouter les histoires de Pedro le cormoran et surtout\, Carméla rêve de voir la mer.\nUn soir la poulette quitte le poulailler. C’est le début d’une grande aventure qui la mènera jusqu’en Amérique\, traversant l’océan en compagnie de Christophe Colomb. Il se pourrait même qu’elle tombe amoureuse !\nUne histoire sur l’envie de partir et grandir\, de faire son chemin dans la vie\, émerveillés par les surprises du voyage vers l’inconnu. \n\n 
URL:https://espacepauljargot.crolles.fr/info-evenement/la-petite-poule-qui-voulait-voir-la-mer/
LOCATION:Espace Paul Jargot\, 191 Rue François Mitterrand\, Crolles\, 38920\, France
CATEGORIES:Conte,Jeune public,Les spectacles,Marionnettes,Séance scolaire,Tous les spectacles
ATTACH;FMTTYPE=image/jpeg:https://espacepauljargot.crolles.fr/wp-content/uploads/2022/09/petitePoule_MCorbiere.jpg
END:VEVENT
END:VCALENDAR