BEGIN:VCALENDAR
VERSION:2.0
PRODID:-//Espace Paul Jargot - ECPv6.3.0//NONSGML v1.0//EN
CALSCALE:GREGORIAN
METHOD:PUBLISH
X-ORIGINAL-URL:https://espacepauljargot.crolles.fr
X-WR-CALDESC:évènements pour Espace Paul Jargot
REFRESH-INTERVAL;VALUE=DURATION:PT1H
X-Robots-Tag:noindex
X-PUBLISHED-TTL:PT1H
BEGIN:VTIMEZONE
TZID:Europe/Paris
BEGIN:DAYLIGHT
TZOFFSETFROM:+0100
TZOFFSETTO:+0200
TZNAME:CEST
DTSTART:20230326T010000
END:DAYLIGHT
BEGIN:STANDARD
TZOFFSETFROM:+0200
TZOFFSETTO:+0100
TZNAME:CET
DTSTART:20231029T010000
END:STANDARD
END:VTIMEZONE
BEGIN:VEVENT
DTSTART;TZID=Europe/Paris:20231003T124500
DTEND;TZID=Europe/Paris:20231003T133000
DTSTAMP:20260422T232118
CREATED:20230928T064642Z
LAST-MODIFIED:20230928T064642Z
UID:2566-1696337100-1696339800@espacepauljargot.crolles.fr
SUMMARY:Sieste musicale en transat
DESCRIPTION:Devant Le Projo\, place Ingrid Bétancourt \nProfitez de votre pause de midi pour vous offrir un petit voyage sonore… Tout est là pour vous rendre la sieste agréable : la météo est douce et ensoleillée\, les transats colorés sont installés… Des sons et musiques des cinq continents se donnent rendez-vous aux platines pour vous accompagner dans ce moment régénérant. \nEn accès libre pour tous. Merci d’arriver au début de la sieste pour ne pas troubler la détente des participants.
URL:https://espacepauljargot.crolles.fr/info-evenement/sieste-musicale-en-transat/
LOCATION:Parvis du Projo\, Place Ingrid Bétancourt\, Crolles\, 38920\, France
CATEGORIES:La culture au pas de la porte,Musique
ATTACH;FMTTYPE=image/jpeg:https://espacepauljargot.crolles.fr/wp-content/uploads/2023/09/sieste.jpg
END:VEVENT
BEGIN:VEVENT
DTSTART;TZID=Europe/Paris:20231012T193000
DTEND;TZID=Europe/Paris:20231012T193000
DTSTAMP:20260422T232118
CREATED:20230915T214928Z
LAST-MODIFIED:20230915T214928Z
UID:2404-1697139000-1697139000@espacepauljargot.crolles.fr
SUMMARY:L'afrocarnaval des animaux\, Cie l'Oreille en friche
DESCRIPTION:ATTENTION\, DATE MODIFIÉE depuis publication de la plaquette ! \nDans le cadre du 19ème Grenoble Alpes Métropole Jazz Festival\, qui se déroulera du 29 septembre au 14 octobre. Programme complet www.jazzclubdegrenoble.fr \nD’après Le Carnaval des Animaux de Camille Saint-Saëns \nJe me nomme Ndjé man\, fils de Mbondo Ndjé\, petit-fils de Sogol Mbondo Ndjé\, arrière-petit-fils de Sogol Sogol Mbondo Ndjé\, descendant de la lignée des Mbon-do Ndjé Bikaï\, grand chef de tous les vivants de la forêt. Je suis vif\, agile\, porté par quatre jambes et d’un corps puissant et musculeux\, béni de Ilolombi\, père des visibles et des invisibles\, dieu de tous les êtres…\nPassionné de jazz et de musiques du monde\, chef d’orchestre du Bal de L’Afrique Enchantée\, Florent Briqué vous invite à redécouvrir un Carnaval des Animaux « tout couleur »\, au rythme de la rumba congolaise\, de l’afrobeat nigérian\, du soukouss et de la salsa béninoise\, pour s’aventurer même du côté du hip-hop ! Ainsi revisitée à la chaleur des cultures du monde et du texte de Blick Bassy\, cette œuvre majeure du répertoire symphonique\, créée par Camille Saint-Saëns en 1886\, saura vous faire vibrer en famille. \n  \n\n 
URL:https://espacepauljargot.crolles.fr/info-evenement/lafrocarnaval-des-animaux-cie-loreille-en-friche/
LOCATION:Espace Paul Jargot\, 191 Rue François Mitterrand\, Crolles\, 38920\, France
CATEGORIES:Musique,Séance scolaire,Tous les spectacles
ATTACH;FMTTYPE=image/jpeg:https://espacepauljargot.crolles.fr/wp-content/uploads/2023/09/carnaval.jpg
END:VEVENT
END:VCALENDAR