BEGIN:VCALENDAR
VERSION:2.0
PRODID:-//Espace Paul Jargot - ECPv6.3.0//NONSGML v1.0//EN
CALSCALE:GREGORIAN
METHOD:PUBLISH
X-ORIGINAL-URL:https://espacepauljargot.crolles.fr
X-WR-CALDESC:évènements pour Espace Paul Jargot
REFRESH-INTERVAL;VALUE=DURATION:PT1H
X-Robots-Tag:noindex
X-PUBLISHED-TTL:PT1H
BEGIN:VTIMEZONE
TZID:Europe/Paris
BEGIN:DAYLIGHT
TZOFFSETFROM:+0100
TZOFFSETTO:+0200
TZNAME:CEST
DTSTART:20210328T010000
END:DAYLIGHT
BEGIN:STANDARD
TZOFFSETFROM:+0200
TZOFFSETTO:+0100
TZNAME:CET
DTSTART:20211031T010000
END:STANDARD
END:VTIMEZONE
BEGIN:VEVENT
DTSTART;TZID=Europe/Paris:20211211T183000
DTEND;TZID=Europe/Paris:20211211T194500
DTSTAMP:20260424T061840
CREATED:20210505T131858Z
LAST-MODIFIED:20211007T075059Z
UID:461-1639247400-1639251900@espacepauljargot.crolles.fr
SUMMARY:Locking for Beethoven - Compagnie Melting Spot
DESCRIPTION:Farid Berki cultive l’art de la rencontre\, souvent improbable\, parfois impossible ; celle qui amène les êtres\, les musiques et les danses qui évoluent au sein d’espaces socio-temporels distincts à se télescoper. \nAprès Stravinsky Remix\, où le hip hop s’écrit avec le ballet classique\, c’est la flamboyante Ode à la joie qui nourrit sa rencontre avec Beethoven\, dans le film Orange Mécanique de Stanley Kubrick. Cet opus phare du compositeur peut-il encore être dissocié de l’Union Européenne et de ses valeurs de fraternité et d’unité dans la diversité\, ou en est-il irrémédiablement devenu un symbole ? A l’heure des questionnements\, nombreux sont les fils qui se tissent entre des problématiques et des univers en apparence si éloignés\, invitant par là-même le chorégraphe à les interroger dans un dialogue entre danse et musique… Cette danse tellurique et explosive qui entre en résonnance avec la musique de Beethoven\, et celle aux teintes électro de Malik Berki. \n\n 
URL:https://espacepauljargot.crolles.fr/info-evenement/locking-for-beethoven-compagnie-melting-spot/
LOCATION:Espace Paul Jargot\, 191 Rue François Mitterrand\, Crolles\, 38920\, France
CATEGORIES:Danse,Les spectacles,Musique,Séance scolaire,Tous les spectacles
ATTACH;FMTTYPE=image/jpeg:https://espacepauljargot.crolles.fr/wp-content/uploads/2021/05/locking-for-beethoven_49599661043_o.jpg
END:VEVENT
BEGIN:VEVENT
DTSTART;TZID=Europe/Paris:20211218T183000
DTEND;TZID=Europe/Paris:20211218T192500
DTSTAMP:20260424T061840
CREATED:20210505T132800Z
LAST-MODIFIED:20211215T104505Z
UID:465-1639852200-1639855500@espacepauljargot.crolles.fr
SUMMARY:Pierre et le loup - Compagnie 7 à Dire
DESCRIPTION:D’après Serge Prokofiev \nUn jeune garçon insouciant\, un canard fugueur croqué par le loup\, lui-même poursuivi par les chasseurs\, un grand-père bougon et un oiseau facétieux\, tels sont les personnages de ce conte qui se joue dans la campagne russe des années 1930. Ce qui fit le succès mondial de cette œuvre dès sa création\, c’est l’accord parfait entre les instruments – dans cette adaptation un quintette à vent – et les portraits. Pierre\, avec sa candeur naïve\, sied bien au quintette dans son ensemble ; l’oiseau\, vif et malin\, est une flûte traversière. Le chat\, agile et espiègle\, a la souplesse de la clarinette\, ce qui n’est pas le cas du grand-père\, le saxophone baryton ! Pour donner du « corps » et le tragique de l’action\, le loup au cor et les chasseurs comme un seul homme aux percussions. Et voilà ! Ajoutez à cela une mise en scène fraîche et interactive et… Vous y êtes ! \nDe quoi découvrir une œuvre et l’orchestre en famille et en s’amusant. \n\n 
URL:https://espacepauljargot.crolles.fr/info-evenement/pierre-et-le-loup-compagnie-7-a-dire/
LOCATION:Espace Paul Jargot\, 191 Rue François Mitterrand\, Crolles\, 38920\, France
CATEGORIES:Les spectacles,Musique,Musique classique/contemporaine,Séance scolaire,Tous les spectacles
ATTACH;FMTTYPE=image/jpeg:https://espacepauljargot.crolles.fr/wp-content/uploads/2021/05/PierreLoup_Edouard-Marano.jpg
END:VEVENT
END:VCALENDAR