BEGIN:VCALENDAR
VERSION:2.0
PRODID:-//Espace Paul Jargot - ECPv6.3.0//NONSGML v1.0//EN
CALSCALE:GREGORIAN
METHOD:PUBLISH
X-ORIGINAL-URL:https://espacepauljargot.crolles.fr
X-WR-CALDESC:évènements pour Espace Paul Jargot
REFRESH-INTERVAL;VALUE=DURATION:PT1H
X-Robots-Tag:noindex
X-PUBLISHED-TTL:PT1H
BEGIN:VTIMEZONE
TZID:Europe/Paris
BEGIN:DAYLIGHT
TZOFFSETFROM:+0100
TZOFFSETTO:+0200
TZNAME:CEST
DTSTART:20260329T010000
END:DAYLIGHT
BEGIN:STANDARD
TZOFFSETFROM:+0200
TZOFFSETTO:+0100
TZNAME:CET
DTSTART:20261025T010000
END:STANDARD
END:VTIMEZONE
BEGIN:VEVENT
DTSTART;TZID=Europe/Paris:20260212T183000
DTEND;TZID=Europe/Paris:20260212T183000
DTSTAMP:20260424T135722
CREATED:20260209T171128Z
LAST-MODIFIED:20260209T171128Z
UID:3929-1770921000-1770921000@espacepauljargot.crolles.fr
SUMMARY:Les bras croisés\, sortie de résidence
DESCRIPTION:Cirque et chanson\, par la compagnie Armistice. Ados / adultes. \nSortie de résidence – premières étapes de création. Entrée libre \nEuh … c’est un spectacle de cirque ou un congrès de la CGT ? Ah non\, c’est peut-être du music-hall en fait. Bon\, en tout cas ça a pas l’air de se passer exactement comme prévu.\nEnfin bref\, il sera question de cirque et de chanson\, et d’un mouvement de grève… de la main gauche\,  suite aux coupes drastiques dans les budgets de la culture.\nCa parle donc aussi du monde dans lequel on vit et de comment on en est arrivé là.
URL:https://espacepauljargot.crolles.fr/info-evenement/les-bras-croises-sortie-de-residence/
LOCATION:Espace Paul Jargot\, 191 Rue François Mitterrand\, Crolles\, 38920\, France
CATEGORIES:Agenda,Les résidences et sorties de résidences
ATTACH;FMTTYPE=image/jpeg:https://espacepauljargot.crolles.fr/wp-content/uploads/2026/02/626190500_1443597734226832_8670104682190593015_n-1.jpg
END:VEVENT
END:VCALENDAR