BEGIN:VCALENDAR
VERSION:2.0
PRODID:-//Espace Paul Jargot - ECPv6.3.0//NONSGML v1.0//EN
CALSCALE:GREGORIAN
METHOD:PUBLISH
X-WR-CALNAME:Espace Paul Jargot
X-ORIGINAL-URL:https://espacepauljargot.crolles.fr
X-WR-CALDESC:évènements pour Espace Paul Jargot
REFRESH-INTERVAL;VALUE=DURATION:PT1H
X-Robots-Tag:noindex
X-PUBLISHED-TTL:PT1H
BEGIN:VTIMEZONE
TZID:Europe/Paris
BEGIN:DAYLIGHT
TZOFFSETFROM:+0100
TZOFFSETTO:+0200
TZNAME:CEST
DTSTART:20240331T010000
END:DAYLIGHT
BEGIN:STANDARD
TZOFFSETFROM:+0200
TZOFFSETTO:+0100
TZNAME:CET
DTSTART:20241027T010000
END:STANDARD
BEGIN:DAYLIGHT
TZOFFSETFROM:+0100
TZOFFSETTO:+0200
TZNAME:CEST
DTSTART:20250330T010000
END:DAYLIGHT
BEGIN:STANDARD
TZOFFSETFROM:+0200
TZOFFSETTO:+0100
TZNAME:CET
DTSTART:20251026T010000
END:STANDARD
END:VTIMEZONE
BEGIN:VEVENT
DTSTART;TZID=Europe/Paris:20240206T180000
DTEND;TZID=Europe/Paris:20240206T180000
DTSTAMP:20260420T053028
CREATED:20240125T130547Z
LAST-MODIFIED:20240130T132349Z
UID:2690-1707242400-1707242400@espacepauljargot.crolles.fr
SUMMARY:Un spectacle déambulatoire participatif en juin\, réunion d'information
DESCRIPTION:Mon voisin se représente\, un spectacle en création\, par des habitants et le collectif Un euro ne fait pas le printemps\, à découvrir ! \nLe collectif d’artistes est en résidence sur la commune et crée des propositions artistiques avec et pour les habitants afin de créer du lien et du sens entre les différents quartiers\, entre habitants “historiques” et nouveaux venus\, entre générations aussi ! \nVous êtes curieux d’en apprendre plus sur ce projet unique et original qui se jouera le 7 juin ? Vous vous laisseriez bien tenter par l’aventure mais n’osez pas tout à fait ? Regrouper votre famille et vos amis et venez en apprendre plus\, mardi 6 février à 18h\, à l’Espace Paul Jargot. En entrée libre et pour tous. \nJe confirme ma présence
URL:https://espacepauljargot.crolles.fr/info-evenement/un-spectacle-deambulatoire-participatif-en-juin-reunion-dinformation/
LOCATION:Espace Paul Jargot\, 191 Rue François Mitterrand\, Crolles\, 38920\, France
CATEGORIES:Arts mêlés,Chanson,Conte,Création,Danse,La culture au pas de la porte,Les ateliers,Les occasions découvertes,Les résidences et sorties de résidences,Théâtre
ATTACH;FMTTYPE=image/jpeg:https://espacepauljargot.crolles.fr/wp-content/uploads/2023/09/clairieres.jpg
END:VEVENT
BEGIN:VEVENT
DTSTART;TZID=Europe/Paris:20240309T090000
DTEND;TZID=Europe/Paris:20240309T173000
DTSTAMP:20260420T053028
CREATED:20231019T131007Z
LAST-MODIFIED:20231019T131101Z
UID:2618-1709974800-1710005400@espacepauljargot.crolles.fr
SUMMARY:Un atelier chants sénégalais avec Woz Kaly
DESCRIPTION:Gratuit sur réservation indispensable en billetterie guichet ou téléphone avant le 16 février !  \nPartez à la découverte des chants du Sénégal guidés par la voix magique de Woz Kaly et la musique de Michel Teyssier\, artistes accueillis dans le cadre du spectacle Le Franc et du festival Détours de Babel\nAtelier ouvert à tous\, tous niveaux dès 12 ans. De 9 à 12h et de 13h30 à 17h30. Attention\, capacité limitée ! \nDécouvrir le ciné-concert Le Franc
URL:https://espacepauljargot.crolles.fr/info-evenement/un-atelier-chants-senegalais-avec-woz-kaly/
LOCATION:Espace Paul Jargot\, 191 Rue François Mitterrand\, Crolles\, 38920\, France
CATEGORIES:Chanson,Ciné-concert,Les ateliers,Les occasions découvertes
ATTACH;FMTTYPE=image/jpeg:https://espacepauljargot.crolles.fr/wp-content/uploads/2021/06/vignette_ateliers.jpg
END:VEVENT
BEGIN:VEVENT
DTSTART;TZID=Europe/Paris:20240514T124500
DTEND;TZID=Europe/Paris:20240514T131500
DTSTAMP:20260420T053028
CREATED:20240503T101944Z
LAST-MODIFIED:20240516T062553Z
UID:2833-1715690700-1715692500@espacepauljargot.crolles.fr
SUMMARY:Une sieste musicale en plein air
DESCRIPTION:Fermez les yeux\, ouvrez vos oreilles\, la musique fera le reste ! \nInstallés confortablement dans nos transats\, évadez-vous le temps d’une demi-heure aux sons du monde… \nLes prochaines siestes\nLe 11 juin et le 4 juillet sur l’esplanade du Projo\nle 28 juin dans le parc Paturel \nPuis rendez-vous à la rentrée ! \nEn savoir plus
URL:https://espacepauljargot.crolles.fr/info-evenement/premiere-sieste-musicale-du-printemps/2024-05-14/
LOCATION:Parc Jean-Claude Paturel\, rue François Mitterrand\, Crolles\, 38920\, France
CATEGORIES:La culture au pas de la porte,Les occasions découvertes,Les spectacles,Musique
ATTACH;FMTTYPE=image/jpeg:https://espacepauljargot.crolles.fr/wp-content/uploads/2024/04/affiche-siestes.jpg
END:VEVENT
BEGIN:VEVENT
DTSTART;VALUE=DATE:20240522
DTEND;VALUE=DATE:20240530
DTSTAMP:20260420T053028
CREATED:20240502T115758Z
LAST-MODIFIED:20240516T064020Z
UID:2815-1716336000-1717027199@espacepauljargot.crolles.fr
SUMMARY:Festival D'un bout à l'autre
DESCRIPTION:2e édition du festival D’un bout à l’autre\, du 22 au 29 mai\, dans le Grésivaudan\nUn temps fort d’une ampleur inédite consacré au spectacle vivant à destination des tout-petits et des seniors : 25 structures d’accueil\, 18 communes et 14 compagnies vibreront ensemble autour de créations professionnelles spécialement conçues pour être présentées dans des espaces non dédiés au spectacle (Crèches\, EHPAD…). \nOutre les spectacles\, le festival a pour ambition d’offrir à ces publics\, aux besoins si particuliers\, de vivre des ateliers d’éducation artistique et culturelle et de rencontrer des artistes auxquels il permet de s’installer le temps d’une «résidence» dans les Ehpad et les crèches pour créer leur spectacle en interaction avec ses futurs spectateurs.\nVous découvrirez ainsi dans les pages du programme le spectacle Souvenir\, souvenirs\, né d’un projet interne à l’EHPAD de La Terrasse mais porté à la scène grâce à D’un bout à l’autre; ou encore le projet Labobouillon dont les ateliers initiés en mars permettent à des seniors et de très jeunes enfants de créer ensemble des musiques improvisées. \nLe festival D’un bout à l’autre est donc un concentré de vie et d’échanges\, un art de la rencontre\, qui ne pourrait éclore sans l’apport des artistes qui tissent ces liens et le soutien de nos partenaires. \nPorté par l’Espace Aragon et la communauté de communes Le Grésivaudan\, Le Coléo de Pontcharra et l’Espace Paul Jargot Scène ressource en Isère de Crolles qui le coordonne\, il s’intègre par sa dimension de médiation dans le Plan Local d’Éducation Artistique et Culturelle (PLEAC) du Grésivaudan\, soutenu par la DRAC Auvergne-Rhône-Alpes\, la Conférence des Financeurs pour la Prévention de la Perte d’Autonomie de l’Isère et la CAF de l’Isère. L’enthousiasme\, l’énergie et l’adaptation des structures et communes accueillantes est indispensable au succès de ce projet\, nous les en remercions sincèrement. \nVoir le programme complet
URL:https://espacepauljargot.crolles.fr/info-evenement/2815/
LOCATION:Territoire du Grésivaudan\, France
CATEGORIES:Festival,Jeune public,La culture au pas de la porte,Les occasions découvertes
ATTACH;FMTTYPE=image/jpeg:https://espacepauljargot.crolles.fr/wp-content/uploads/2024/05/affiche-DBAL_une.jpg
END:VEVENT
BEGIN:VEVENT
DTSTART;TZID=Europe/Paris:20240611T124500
DTEND;TZID=Europe/Paris:20240611T131500
DTSTAMP:20260420T053028
CREATED:20240503T122622Z
LAST-MODIFIED:20240902T133738Z
UID:2846-1718109900-1718111700@espacepauljargot.crolles.fr
SUMMARY:Une sieste musicale au coeur de Crolles
DESCRIPTION:Fermez les yeux\, ouvrez vos oreilles\, la musique fera le reste ! \nInstallés confortablement dans nos transats\, évadez-vous le temps d’une demi-heure aux sons du monde… \nLes prochaines siestes\nle 4 juillet sur l’esplanade du Projo\nle 28 juin dans le parc Paturel \nPuis rendez-vous à la rentrée ! \nEn savoir plus
URL:https://espacepauljargot.crolles.fr/info-evenement/une-sieste-musicale-au-coeur-de-crolles-2/
LOCATION:Parvis du Projo\, Place Ingrid Bétancourt\, Crolles\, 38920\, France
CATEGORIES:La culture au pas de la porte,Les occasions découvertes,Les spectacles,Musique
ATTACH;FMTTYPE=image/jpeg:https://espacepauljargot.crolles.fr/wp-content/uploads/2024/04/affiche-siestes.jpg
END:VEVENT
BEGIN:VEVENT
DTSTART;TZID=Europe/Paris:20240704T124500
DTEND;TZID=Europe/Paris:20240704T131500
DTSTAMP:20260420T053028
CREATED:20240503T122622Z
LAST-MODIFIED:20240902T133712Z
UID:2849-1720097100-1720098900@espacepauljargot.crolles.fr
SUMMARY:Une sieste musicale au coeur de Crolles
DESCRIPTION:Fermez les yeux\, ouvrez vos oreilles\, la musique fera le reste ! \nInstallés confortablement dans nos transats\, évadez-vous le temps d’une demi-heure aux sons du monde… \nLes prochaines siestes\nle 4 juillet sur l’esplanade du Projo\nle 28 juin dans le parc Paturel \nPuis rendez-vous à la rentrée ! \n  \nEn savoir plus
URL:https://espacepauljargot.crolles.fr/info-evenement/une-sieste-musicale-au-coeur-de-crolles-2-2024-07-04/2024-07-04/
LOCATION:Parvis du Projo\, Place Ingrid Bétancourt\, Crolles\, 38920\, France
CATEGORIES:La culture au pas de la porte,Les occasions découvertes,Les spectacles,Musique
ATTACH;FMTTYPE=image/jpeg:https://espacepauljargot.crolles.fr/wp-content/uploads/2024/04/affiche-siestes.jpg
END:VEVENT
BEGIN:VEVENT
DTSTART;TZID=Europe/Paris:20240913T183000
DTEND;TZID=Europe/Paris:20240913T183000
DTSTAMP:20260420T053028
CREATED:20240613T151227Z
LAST-MODIFIED:20240829T132109Z
UID:2871-1726252200-1726252200@espacepauljargot.crolles.fr
SUMMARY:Présentation de saison suivie de "La famille vient en mangeant"
DESCRIPTION:Cette année encore\, nous commencerons par une présentation “efficace” et en images de nos spectacles\, temps forts\, expositions… et ouvrirons la billetterie\, au guichet comme en ligne. Une garderie gratuite est prévue pour les enfants dès 4 ans\, sur inscription en cliquant sur le logo à droite de la page. \nSuivront le verre de l’amitie et le spectacle ! \n  \nVous souhaitez réserver votre place pour la soirée ? Remplissez le formulaire ci-dessous \nRéserver la présentation de saison\n  \n  \nLa famille vient en mangeant\nCompagnie MMM\nSeule-en-scène pour tous dès 10 ans – garderie gratuite dès 4 ans\, sur inscription (colonne de droite) \nÀ l’étage\, bagarre dans la chambre des petits et test de grossesse dans l’intimité de la salle de bain amènent frères et soeurs à se réunir en conseil de fratrie où l’on commence à débattre éducation à domicile\, sexualité\, IVG et autres histoires d’enfants…\nSauf qu’à table\, entre gaffes\, piques\, pause cigarette et visite surprise de la grand-mère\, tout finit par se révéler ! Le conseil de fratrie devenant pour la première fois conseil de famille. Frères\, soeurs\, parents\, qui éduque qui finalement ?
URL:https://espacepauljargot.crolles.fr/info-evenement/presentation-de-saison-suivie-de-la-famille-vient-en-mangeant/
LOCATION:Espace Paul Jargot\, 191 Rue François Mitterrand\, Crolles\, 38920\, France
CATEGORIES:Les occasions découvertes,Présentation de saison,Théâtre
ATTACH;FMTTYPE=image/jpeg:https://espacepauljargot.crolles.fr/wp-content/uploads/2024/06/La-Famille-Vient-en-Mangeant-Nathalie-Granger-Pacaud.jpg
END:VEVENT
BEGIN:VEVENT
DTSTART;TZID=Europe/Paris:20250221T193000
DTEND;TZID=Europe/Paris:20250221T193000
DTSTAMP:20260420T053028
CREATED:20250116T091050Z
LAST-MODIFIED:20250116T091050Z
UID:3214-1740166200-1740166200@espacepauljargot.crolles.fr
SUMMARY:Présentation de mi-saison pour découvrir les temps forts du printemps !
DESCRIPTION:Un rapide coup d’oeil sur les spectacles et expositions restant à venir\, avant un panorama des axes de l’éducation artistique et culturelle et la présentation des temps forts du printemps que nous avons construits avec nos partenaires depuis l’ouverture de saison… Des rencontres\, spectacles\, ateliers à profusion dans l’espace public ! \nCette présentation sera suivie du spectacle de nouveau cirque Mr Patate\, par la Compagnie BaNCALE. Un spectacle joyeux et époustouflant qui\, une fois encore\, saura tordre le cou à nos préjugés. \nSommes-nous dépendant de notre intégrité physique\, doit-on renoncer parce qu’il nous manque « un bout » ? Sommes-nous à l’inverse\, tel Mr Patate\, une combinaison de pièces dont l’assemblage est plus ou moins définitif ? Après Le membre fantôme\, Karim Randé explore de nouveau avec le public et beaucoup d’humour\, les possibles que lui ouvrent le handicap dans son quotidien de circassien.
URL:https://espacepauljargot.crolles.fr/info-evenement/presentation-de-mi-saison-pour-decouvrir-les-temps-forts-du-printemps/
LOCATION:Espace Paul Jargot\, 191 Rue François Mitterrand\, Crolles\, 38920\, France
CATEGORIES:Les occasions découvertes,Présentation de saison
ATTACH;FMTTYPE=image/jpeg:https://espacepauljargot.crolles.fr/wp-content/uploads/2025/01/presenation-fev.jpg
END:VEVENT
BEGIN:VEVENT
DTSTART;TZID=Europe/Paris:20250611T124500
DTEND;TZID=Europe/Paris:20250611T131500
DTSTAMP:20260420T053028
CREATED:20240503T101944Z
LAST-MODIFIED:20250515T130820Z
UID:2836-1749645900-1749647700@espacepauljargot.crolles.fr
SUMMARY:Une sieste musicale face aux montagnes
DESCRIPTION:Fermez les yeux\, ouvrez vos oreilles\, la musique fera le reste ! \nInstallés confortablement dans nos transats\, évadez-vous le temps d’une demi-heure aux sons du monde… \nLes prochaines siestes\nLe 11 et 25 juin\, le 1er juillet\, dans le parc Paturel \nPuis rendez-vous à la rentrée ! \nEn savoir plus
URL:https://espacepauljargot.crolles.fr/info-evenement/premiere-sieste-musicale-du-printemps-2024-06-28/2025-06-11/
LOCATION:Parc Jean-Claude Paturel\, rue François Mitterrand\, Crolles\, 38920\, France
CATEGORIES:La culture au pas de la porte,Les occasions découvertes,Les siestes musicales,Musique
ATTACH;FMTTYPE=image/jpeg:https://espacepauljargot.crolles.fr/wp-content/uploads/2024/05/sieste.jpg
END:VEVENT
BEGIN:VEVENT
DTSTART;TZID=Europe/Paris:20250625T124500
DTEND;TZID=Europe/Paris:20250625T131500
DTSTAMP:20260420T053028
CREATED:20240503T101944Z
LAST-MODIFIED:20250515T130821Z
UID:3365-1750855500-1750857300@espacepauljargot.crolles.fr
SUMMARY:Une sieste musicale face aux montagnes
DESCRIPTION:Fermez les yeux\, ouvrez vos oreilles\, la musique fera le reste ! \nInstallés confortablement dans nos transats\, évadez-vous le temps d’une demi-heure aux sons du monde… \nLes prochaines siestes\nLe 11 et 25 juin\, le 1er juillet\, dans le parc Paturel \nPuis rendez-vous à la rentrée ! \nEn savoir plus
URL:https://espacepauljargot.crolles.fr/info-evenement/premiere-sieste-musicale-du-printemps-2024-06-28/2025-06-25/
LOCATION:Parc Jean-Claude Paturel\, rue François Mitterrand\, Crolles\, 38920\, France
CATEGORIES:La culture au pas de la porte,Les occasions découvertes,Les siestes musicales,Musique
ATTACH;FMTTYPE=image/jpeg:https://espacepauljargot.crolles.fr/wp-content/uploads/2024/05/sieste.jpg
END:VEVENT
BEGIN:VEVENT
DTSTART;TZID=Europe/Paris:20250701T124500
DTEND;TZID=Europe/Paris:20250701T131500
DTSTAMP:20260420T053028
CREATED:20240503T101944Z
LAST-MODIFIED:20250515T130821Z
UID:3366-1751373900-1751375700@espacepauljargot.crolles.fr
SUMMARY:Une sieste musicale face aux montagnes
DESCRIPTION:Fermez les yeux\, ouvrez vos oreilles\, la musique fera le reste ! \nInstallés confortablement dans nos transats\, évadez-vous le temps d’une demi-heure aux sons du monde… \nLes prochaines siestes\nLe 11 et 25 juin\, le 1er juillet\, dans le parc Paturel \nPuis rendez-vous à la rentrée ! \nEn savoir plus
URL:https://espacepauljargot.crolles.fr/info-evenement/premiere-sieste-musicale-du-printemps-2024-06-28/2025-07-01/
LOCATION:Parc Jean-Claude Paturel\, rue François Mitterrand\, Crolles\, 38920\, France
CATEGORIES:La culture au pas de la porte,Les occasions découvertes,Les siestes musicales,Musique
ATTACH;FMTTYPE=image/jpeg:https://espacepauljargot.crolles.fr/wp-content/uploads/2024/05/sieste.jpg
END:VEVENT
END:VCALENDAR