BEGIN:VCALENDAR
VERSION:2.0
PRODID:-//Espace Paul Jargot - ECPv6.3.0//NONSGML v1.0//EN
CALSCALE:GREGORIAN
METHOD:PUBLISH
X-WR-CALNAME:Espace Paul Jargot
X-ORIGINAL-URL:https://espacepauljargot.crolles.fr
X-WR-CALDESC:évènements pour Espace Paul Jargot
REFRESH-INTERVAL;VALUE=DURATION:PT1H
X-Robots-Tag:noindex
X-PUBLISHED-TTL:PT1H
BEGIN:VTIMEZONE
TZID:Europe/Paris
BEGIN:DAYLIGHT
TZOFFSETFROM:+0100
TZOFFSETTO:+0200
TZNAME:CEST
DTSTART:20210328T010000
END:DAYLIGHT
BEGIN:STANDARD
TZOFFSETFROM:+0200
TZOFFSETTO:+0100
TZNAME:CET
DTSTART:20211031T010000
END:STANDARD
END:VTIMEZONE
BEGIN:VEVENT
DTSTART;TZID=Europe/Paris:20210924T190000
DTEND;TZID=Europe/Paris:20210924T213000
DTSTAMP:20260423T202130
CREATED:20210916T101142Z
LAST-MODIFIED:20210916T101142Z
UID:1299-1632510000-1632519000@espacepauljargot.crolles.fr
SUMMARY:Découvrez en images la saison culturelle !
DESCRIPTION:Autour d’extraits vidéo entrecoupés d’une courte présentation\, découvrez chacun des spectacles proposés pour cette saison culturelle 2021-2022.  Nous vous concoctons également quelques surprises magiques avec Claude Brun ! \nAprès un temps convivial pendant lequel vous pourrez égalemnent acheter vos billets\, place au spectacle avec le collectif Les Oreillons des Murs et Dei Litorali Sta Oneira Tous [Les Rives\, certains les rêvent] (durée 1h10\, ados/adultes) \n  \nSur les textes de poètes grecs et italiens d’hier et d’aujourd’hui\, “Les rives\, certains les rêvent” met en miroir ces deux rives de la méditerranée et leurs peuples\, questionne leurs héritages\, leurs correspondances\, leurs diversités. \nCette création musicale s’appuie sur des mélodies traditionnelles avec comme trame les frontières\, les échanges\, la mer. \nPenser et jouer l’histoire perpétuelle de ces rencontres avec l’étranger si proche\, cet Autre\, qui nous transforme depuis toujours\, si indispensable à notre vitalité. \n  \nCréation sonore\, lecture\, chant Eve Grimbert \nGuitare\, chant\, percussions\, improvisations Simon Drouin \nChant\, percussions\, danse Veronika Warkentin \nJérémy Chartier Création vidéo et régie lumière \nRégie son Thibaud Grimonet \n\n  \nVous pourrez acheter vos places pour l’ensemble de la saison à l’occasion de cette soirée. \nEntrée libre dans la limite des places disponibles et sur présentation du pass sanitaire.
URL:https://espacepauljargot.crolles.fr/info-evenement/decouvrez-en-images-la-saison-culturelle/
LOCATION:Espace Paul Jargot\, 191 Rue François Mitterrand\, Crolles\, 38920\, France
CATEGORIES:Les occasions découvertes
ATTACH;FMTTYPE=image/jpeg:https://espacepauljargot.crolles.fr/wp-content/uploads/2021/09/saison.jpg
END:VEVENT
END:VCALENDAR