BEGIN:VCALENDAR
VERSION:2.0
PRODID:-//Espace Paul Jargot - ECPv6.3.0//NONSGML v1.0//EN
CALSCALE:GREGORIAN
METHOD:PUBLISH
X-ORIGINAL-URL:https://espacepauljargot.crolles.fr
X-WR-CALDESC:évènements pour Espace Paul Jargot
REFRESH-INTERVAL;VALUE=DURATION:PT1H
X-Robots-Tag:noindex
X-PUBLISHED-TTL:PT1H
BEGIN:VTIMEZONE
TZID:Europe/Paris
BEGIN:DAYLIGHT
TZOFFSETFROM:+0100
TZOFFSETTO:+0200
TZNAME:CEST
DTSTART:20230326T010000
END:DAYLIGHT
BEGIN:STANDARD
TZOFFSETFROM:+0200
TZOFFSETTO:+0100
TZNAME:CET
DTSTART:20231029T010000
END:STANDARD
END:VTIMEZONE
BEGIN:VEVENT
DTSTART;TZID=Europe/Paris:20231014T170000
DTEND;TZID=Europe/Paris:20231014T170000
DTSTAMP:20260420T053004
CREATED:20231002T070522Z
LAST-MODIFIED:20231002T070522Z
UID:2580-1697302800-1697302800@espacepauljargot.crolles.fr
SUMMARY:Vous rêvez de monter sur scène ? Réunion d'information
DESCRIPTION:Avec Grégory Faive et la compagnie Le Chat du désert\, participez au projet Le songe d’une nuit d’été et montez sur la scène du Coléo et de l’Espace Paul Jargot ! \nVous avez de 15 à 95 ans\, monter sur un plateau est votre rêve mais apprendre un texte vous fait peur ? Alors venez simplement jouer un elfe\, une fée\, un soldat ou pourquoi pas un arbre.\nSi au contraire vous vous sentez l’étoffe d’une reine\, d’un prince\, du roi des elfes ou d’un bouffon\, ce projet s’adresse également à vous. Les 5 groupes répéteront un acte dans une des communes partenaires : Revel\, Theys\, Crêts-en-Belledonne\, Crolles\, Biviers\, puis joueront surla scène du Coléo le 5 avril et à l’Espace Paul Jargot le 6 avril. \nLa page du spectacle \n  \nhttps://www.calameo.com/read/00677210557344b442c73Les détails du projet
URL:https://espacepauljargot.crolles.fr/info-evenement/vous-revez-de-monter-sur-scene-reunion-dinformation/
LOCATION:Espace Paul Jargot\, 191 Rue François Mitterrand\, Crolles\, 38920\, France
CATEGORIES:Création,Les occasions découvertes,Théâtre
ATTACH;FMTTYPE=image/jpeg:https://espacepauljargot.crolles.fr/wp-content/uploads/2023/09/visuel-songe.jpg
END:VEVENT
BEGIN:VEVENT
DTSTART;TZID=Europe/Paris:20231017T123000
DTEND;TZID=Europe/Paris:20231017T140000
DTSTAMP:20260420T053004
CREATED:20231014T154236Z
LAST-MODIFIED:20231014T154405Z
UID:2601-1697545800-1697551200@espacepauljargot.crolles.fr
SUMMARY:Découvrez la saison à l'heure du déjeuner !
DESCRIPTION:Pour joindre l’utile à l’agréable\, apportez votre repas à l’Espace Paul Jargot pour un déjeuner-présentation convivial et informel ! \nOn fait connaissance\, et vos questions\, vos envies et vos goûts nous permettront de balayer les rendez-vous de la saison qui vous intéressent. \nEn entrée libre selon votre heure de pause\, et à partager avec vos collègues et vos amis !
URL:https://espacepauljargot.crolles.fr/info-evenement/decouvrez-la-saison-a-lheure-du-dejeuner/2023-10-17/
LOCATION:Espace Paul Jargot\, 191 Rue François Mitterrand\, Crolles\, 38920\, France
CATEGORIES:Les occasions découvertes,Présentation de saison
ATTACH;FMTTYPE=image/jpeg:https://espacepauljargot.crolles.fr/wp-content/uploads/2023/10/dejeuner-culture.jpg
END:VEVENT
END:VCALENDAR