BEGIN:VCALENDAR
VERSION:2.0
PRODID:-//Espace Paul Jargot - ECPv6.3.0//NONSGML v1.0//EN
CALSCALE:GREGORIAN
METHOD:PUBLISH
X-ORIGINAL-URL:https://espacepauljargot.crolles.fr
X-WR-CALDESC:évènements pour Espace Paul Jargot
REFRESH-INTERVAL;VALUE=DURATION:PT1H
X-Robots-Tag:noindex
X-PUBLISHED-TTL:PT1H
BEGIN:VTIMEZONE
TZID:Europe/Paris
BEGIN:DAYLIGHT
TZOFFSETFROM:+0100
TZOFFSETTO:+0200
TZNAME:CEST
DTSTART:20240331T010000
END:DAYLIGHT
BEGIN:STANDARD
TZOFFSETFROM:+0200
TZOFFSETTO:+0100
TZNAME:CET
DTSTART:20241027T010000
END:STANDARD
BEGIN:DAYLIGHT
TZOFFSETFROM:+0100
TZOFFSETTO:+0200
TZNAME:CEST
DTSTART:20250330T010000
END:DAYLIGHT
BEGIN:STANDARD
TZOFFSETFROM:+0200
TZOFFSETTO:+0100
TZNAME:CET
DTSTART:20251026T010000
END:STANDARD
BEGIN:DAYLIGHT
TZOFFSETFROM:+0100
TZOFFSETTO:+0200
TZNAME:CEST
DTSTART:20260329T010000
END:DAYLIGHT
BEGIN:STANDARD
TZOFFSETFROM:+0200
TZOFFSETTO:+0100
TZNAME:CET
DTSTART:20261025T010000
END:STANDARD
END:VTIMEZONE
BEGIN:VEVENT
DTSTART;VALUE=DATE:20240522
DTEND;VALUE=DATE:20240530
DTSTAMP:20260423T005036
CREATED:20240502T115758Z
LAST-MODIFIED:20240516T064020Z
UID:2815-1716336000-1717027199@espacepauljargot.crolles.fr
SUMMARY:Festival D'un bout à l'autre
DESCRIPTION:2e édition du festival D’un bout à l’autre\, du 22 au 29 mai\, dans le Grésivaudan\nUn temps fort d’une ampleur inédite consacré au spectacle vivant à destination des tout-petits et des seniors : 25 structures d’accueil\, 18 communes et 14 compagnies vibreront ensemble autour de créations professionnelles spécialement conçues pour être présentées dans des espaces non dédiés au spectacle (Crèches\, EHPAD…). \nOutre les spectacles\, le festival a pour ambition d’offrir à ces publics\, aux besoins si particuliers\, de vivre des ateliers d’éducation artistique et culturelle et de rencontrer des artistes auxquels il permet de s’installer le temps d’une «résidence» dans les Ehpad et les crèches pour créer leur spectacle en interaction avec ses futurs spectateurs.\nVous découvrirez ainsi dans les pages du programme le spectacle Souvenir\, souvenirs\, né d’un projet interne à l’EHPAD de La Terrasse mais porté à la scène grâce à D’un bout à l’autre; ou encore le projet Labobouillon dont les ateliers initiés en mars permettent à des seniors et de très jeunes enfants de créer ensemble des musiques improvisées. \nLe festival D’un bout à l’autre est donc un concentré de vie et d’échanges\, un art de la rencontre\, qui ne pourrait éclore sans l’apport des artistes qui tissent ces liens et le soutien de nos partenaires. \nPorté par l’Espace Aragon et la communauté de communes Le Grésivaudan\, Le Coléo de Pontcharra et l’Espace Paul Jargot Scène ressource en Isère de Crolles qui le coordonne\, il s’intègre par sa dimension de médiation dans le Plan Local d’Éducation Artistique et Culturelle (PLEAC) du Grésivaudan\, soutenu par la DRAC Auvergne-Rhône-Alpes\, la Conférence des Financeurs pour la Prévention de la Perte d’Autonomie de l’Isère et la CAF de l’Isère. L’enthousiasme\, l’énergie et l’adaptation des structures et communes accueillantes est indispensable au succès de ce projet\, nous les en remercions sincèrement. \nVoir le programme complet
URL:https://espacepauljargot.crolles.fr/info-evenement/2815/
LOCATION:Territoire du Grésivaudan\, France
CATEGORIES:Festival,Jeune public,La culture au pas de la porte,Les occasions découvertes
ATTACH;FMTTYPE=image/jpeg:https://espacepauljargot.crolles.fr/wp-content/uploads/2024/05/affiche-DBAL_une.jpg
END:VEVENT
BEGIN:VEVENT
DTSTART;TZID=Europe/Paris:20240522T163000
DTEND;TZID=Europe/Paris:20240522T163000
DTSTAMP:20260423T005036
CREATED:20230915T214923Z
LAST-MODIFIED:20230915T214923Z
UID:2494-1716395400-1716395400@espacepauljargot.crolles.fr
SUMMARY:Komaneko\, compagnie SZ
DESCRIPTION:D’après Komaneko de Tsuneo Goda \nSpectacle proposé dans le cadre du festival D’un bout à l’autre #2 \nD’un bout à l’autre de la vie et du territoire\, le spectacle vivant divertit\, surprend\, interroge\, et cultive l’art de la rencontre. D’un bout à l’autre 2024\, organisé par l’Espace Paul Jargot\, Le Coléo et l’Espace Aragon\, vous donne rendez-vous du 22 au 29 mai dans les lieux d’accueil des seniors et des tout-petits ! Programme complet au printemps. \n  \nCe ciné-concert spécialement créé pour les tout-petits invite à découvrir au fil de quatre histoires en courts-métrages l’univers du petit chat curieux Komaneko. Sur des extraits en stop-motion de Tsuneo Goda\, le duo Franck et Damien Litzler\, passionnés par la mise en écho de la vidéo et de la musique\, se plait à accompagner les facéties des personnages à travers une musique résolument actuelle\, colorée d’electronica\, de jazz et d’indie-pop ! Au milieu de percussions\, guitares\, claviers\, voix et objets sonores multiples\, ils dynamisent le monde poétique et décalé de Komaneko. C’est frais et vitaminé\, poétique et malicieux ! \n  \n\n 
URL:https://espacepauljargot.crolles.fr/info-evenement/komaneko-compagnie-sz/
LOCATION:Espace Paul Jargot\, 191 Rue François Mitterrand\, Crolles\, 38920\, France
CATEGORIES:Ciné-concert,Festival,Jeune public,Les spectacles,Séance scolaire,Tous les spectacles
ATTACH;FMTTYPE=image/jpeg:https://espacepauljargot.crolles.fr/wp-content/uploads/2023/09/komaneko.jpg
END:VEVENT
BEGIN:VEVENT
DTSTART;TZID=Europe/Paris:20241011T193000
DTEND;TZID=Europe/Paris:20241011T193000
DTSTAMP:20260423T005036
CREATED:20240905T131106Z
LAST-MODIFIED:20241008T124339Z
UID:2911-1728675000-1728675000@espacepauljargot.crolles.fr
SUMMARY:La fabuleuse histoire de BasarKus
DESCRIPTION:La Compagnie Lamento et L’Académie Fratellini – Danse et cirque \nBasarkus n’est pas un être comme les autres car\, créature à deux têtes et aux multiples jambes\, il a aussi plein de bras ! Il est heureux ainsi\, en parfaite harmonie avec lui-même. Tout de même\, en découvrant qu’il a deux cœurs\, Basarkus s’interroge : et s’ils étaient deux en réalité ? C’est pas mal : ils semblent unis pour la vie\, plus forts et en sécurité\, collés et inséparables. Mais\, poussés par une furieuse curiosité\, ils ne résistent pas à l’envie de se dissocier. Leurs jeux consistent désormais à surmonter leurs peurs et expérimenter coûte que coûte la séparation pour tester ce dont chacun\, seul\, est capable.\nDuo virtuose et malicieux qui tutoie les limites entre cirque et danse\, La fabuleuse histoire de BasarKus interroge la quête d’identité et la notion d’hybridité. Où commence et finit mon corps ? Qui est cet autre que moi ? Autant de questions qui sous-tendent cette ode à la découverte de soi. \nNé en 1987\, Sylvère Lamotte se forme à la danse contemporaine au Conservatoire national de région de Rennes\, puis au Conservatoire national de danse de Paris. En 2007\, alors en dernière année au Junior Ballet\, il intègre le centre chorégraphique d’Aix-en-Provence au sein du GUID initié par le Ballet Preljocaj.\nCurieux des univers de chacun\, ouvert à diverses influences\, Sylvère Lamotte travaille en tant qu’interprète auprès de chorégraphes aux univers variés : Paco Decina\, Nasser Martin Gousset\, Marcia Barcellos et Karl Biscuit\, François Veyrunes\, Alban Richard\, Perrine Valli et Nicolas Hubert. Nourri de chacune de ces expériences\, de chacun de ces langages\, il en retient un goût pour la création collective et le mélange des influences. Il fonde en 2015 la compagnie Lamento au sein de laquelle il explore\, en tant que chorégraphe et interprète\, ses propres pistes de travail. Particulièrement attaché à la danse contact\, il expérimente les moyens d’en faire varier les formes. C’est ainsi qu’il a mis en piste des promotions de l’Académie Fratellini. \nDe la même compagnie Tout ce fracas\, danse et musique dès 11 ans\, le 29 novembre. \nLa tournée de ce spectacle est mutualisée dans un souci écoresponsable et de confort pour les artistes\n5 octobre 10h – L’heure bleue de Saint-Martin-d’Hères\, suivi d’un atelier parent-enfant. Plus d’info https://culture.saintmartindheres.fr \n12 octobre 16h – TMG-Théâtre de Poche Grenoble\, suivi d’un atelier parent-enfant. Plus d’info www.theatre-grenoble.fr
URL:https://espacepauljargot.crolles.fr/info-evenement/la-fabuleuse-histoire-de-basarkus/
LOCATION:Espace Paul Jargot\, 191 Rue François Mitterrand\, Crolles\, 38920\, France
CATEGORIES:Cirque,Danse,Jeune public,Les spectacles,Séance scolaire,Tous les spectacles
ATTACH;FMTTYPE=image/jpeg:https://espacepauljargot.crolles.fr/wp-content/uploads/2024/07/BasarKus_Sylveere-Lamotte.jpg
END:VEVENT
BEGIN:VEVENT
DTSTART;TZID=Europe/Paris:20250326T180000
DTEND;TZID=Europe/Paris:20250326T180000
DTSTAMP:20260423T005036
CREATED:20240905T153507Z
LAST-MODIFIED:20240911T171227Z
UID:3035-1743012000-1743012000@espacepauljargot.crolles.fr
SUMMARY:Nuages
DESCRIPTION:Création – Compagnie SZ \n\nConjuguant leur sensibilité artistique et écologique\, c’est la tête dans les nuages que la compagnie SZ nous embarque à la conquête du ciel\, pour sublimer quatre courts-métrages poétiques à la portée universelle.\nFranck et Damien Litzler s’ouvrent avec légèreté sur des questions aussi fondamentales que le respect de la nature\, l’esprit d’aventure\, l’échange avec autrui et la rencontre de l’altérité. After the rain\, Petite Flamme\, Nimbus et Des vagues dans le ciel\, mis en musique dans un univers indie-pop electronica\, feront traverser toutes sortes d’émotions aux plus jeunes spectateurs\, mais séduiront aussi les adultes ! La musique est exigeante et accessible\, précise sur l’image autant que propice aux échappées belles… Un délicieux moment à partager en famille. \nFormés au ciné-concert par la compagnie SZ\, les professeurs de musique de l’EMC vous proposent en lever de rideau la courte création réalisée avec leurs élèves.
URL:https://espacepauljargot.crolles.fr/info-evenement/nuages/
LOCATION:Espace Paul Jargot\, 191 Rue François Mitterrand\, Crolles\, 38920\, France
CATEGORIES:Ciné-concert,Création,Jeune public,Les spectacles,Séance scolaire,Tous les spectacles
ATTACH;FMTTYPE=image/jpeg:https://espacepauljargot.crolles.fr/wp-content/uploads/2024/09/nuages_eleves-ecole-mopa.jpg
END:VEVENT
BEGIN:VEVENT
DTSTART;TZID=Europe/Paris:20250409T100000
DTEND;TZID=Europe/Paris:20250409T100000
DTSTAMP:20260423T005036
CREATED:20240905T153759Z
LAST-MODIFIED:20240919T125258Z
UID:3042-1744192800-1744192800@espacepauljargot.crolles.fr
SUMMARY:Puzzle
DESCRIPTION:Création – Compagnie Kay\nDans le cadre du festival D’un bout à l’autre \nOn entre doucement\, tranquillement\, chacun à son rythme. Elle est grande la salle ! Il y a plein de sièges. Action : on fabrique et on pose\, composition et imagination ; cela nous ressemble maintenant.\nEt il y a deux « monsieurs » par là. Ils bougent\, comme moi mais différent : ils dansent ? Ils nous appellent au loin. Tous ensemble\, on suit le chemin\, on passe le tunnel. C’est comme un nouveau monde : des couleurs au sol\, en relief\, de la musique\, des lumières qui clignotent et les danseurs. Ils dansent d’un côté\, de l’autre\, et nous on les regarde\, d’un côté\, de l’autre\, les fesses dans les couleurs…\nPuzzle invite les enfants à s’approprier le geste et l’environnement du spectacle\, à expérimenter\, partager et ressentir\, parce qu’il n’y a pas d’âge pour devenir spect’acteur ! \nÊtre sur un fil artistique qui immerge et entraine les spectateurs entre écoute et participation\, entre observation et manipulation\, entre danser et regarder danser. Plonger dans l’univers du spectacle\, se laisser porter et emporter par les images. Créer un univers onirique.\nLaisser surgir notre goût à raconter des histoires sans narration. Incarner par la sensation\, par l’état\, l’atmosphère et l’émotion. Éveiller les sens du spectateur\, l’amener à écouter\, de ses oreilles aux pores de sa peau.\nEt créer de la relation\, simple et naturelle\, directe\, sans filtre. Interagir avec l’autre\, d’être humain à être humain. \nCompagnie Kay
URL:https://espacepauljargot.crolles.fr/info-evenement/puzzle/
LOCATION:Espace Paul Jargot\, 191 Rue François Mitterrand\, Crolles\, 38920\, France
CATEGORIES:Création,Danse,Festival,Jeune public,Les spectacles,Séance scolaire,Tous les spectacles
ATTACH;FMTTYPE=image/jpeg:https://espacepauljargot.crolles.fr/wp-content/uploads/2024/09/Puzzle-Cie-Kay.jpg
END:VEVENT
BEGIN:VEVENT
DTSTART;TZID=Europe/Paris:20260121T170000
DTEND;TZID=Europe/Paris:20260121T180000
DTSTAMP:20260423T005036
CREATED:20250911T102210Z
LAST-MODIFIED:20250911T102210Z
UID:3569-1769014800-1769018400@espacepauljargot.crolles.fr
SUMMARY:Atelier de danse Parent-enfant-panier
DESCRIPTION:Atelier lié au spectacle Panier Piano \n  \nDécouvrez le mouvement et apréhendez le corps dans l’espace en jouant\, en duo avec votre enfant\, et en utilisant le panier comme accessoire ludique ! \nAtelier animé par les artistes\, accessible dès 3 ans sur inscription et sous réserve d’avoir un billet pour le spectacle.
URL:https://espacepauljargot.crolles.fr/info-evenement/atelier-de-danse-parent-enfant-panier/
LOCATION:Espace Paul Jargot\, 191 Rue François Mitterrand\, Crolles\, 38920\, France
CATEGORIES:Agenda,Jeune public,Les ateliers
ATTACH;FMTTYPE=image/jpeg:https://espacepauljargot.crolles.fr/wp-content/uploads/2025/09/panier_Emmanuel-Froger.jpg
END:VEVENT
BEGIN:VEVENT
DTSTART;TZID=Europe/Paris:20260123T193000
DTEND;TZID=Europe/Paris:20260123T193000
DTSTAMP:20260423T005036
CREATED:20250911T101421Z
LAST-MODIFIED:20251022T140345Z
UID:3564-1769196600-1769196600@espacepauljargot.crolles.fr
SUMMARY:Panier Piano
DESCRIPTION:  \nPar la Compagnie Sur Le Tas \n  \n\n  \n  \nBienvenue dans la fantaisie poétique de l’enfance\, celle qui échappe à la stimulation permanente de la technologie\, qui ignore les frontières du rêve et du réel\, et s’amuse d’un rien avec pour seule attache l’instant présent.\nUn peu à la manière de Claude Ponti\, entrons avec deux danseuses et une manipulatrice dans un monde dans lequel le panier comme accessoire devient tour à tour masque\, botte de sept lieues\, sac à dos\, montgolfière. Au son d’un piano dont le musicien fait parler autant le ventre et la coque que les cordes et les marteaux\, corps et paniers s’imbriquent\, se prolongent pour donner vie à des personnages loufoques et des animaux fabuleux.\nUn spectacle frais et malicieux pour découvrir la danse en famille ! \n[/fusion_text][/fusion_builder_column][/fusion_builder_row][/fusion_builder_container]
URL:https://espacepauljargot.crolles.fr/info-evenement/panier-piano/
LOCATION:Espace Paul Jargot\, 191 Rue François Mitterrand\, Crolles\, 38920\, France
CATEGORIES:Agenda,Danse,Jeune public,Tous les spectacles
ATTACH;FMTTYPE=image/jpeg:https://espacepauljargot.crolles.fr/wp-content/uploads/2025/09/panier_Emmanuel-Froger.jpg
END:VEVENT
BEGIN:VEVENT
DTSTART;TZID=Europe/Paris:20260422T091500
DTEND;TZID=Europe/Paris:20260422T091500
DTSTAMP:20260423T005036
CREATED:20250911T133918Z
LAST-MODIFIED:20251210T102608Z
UID:3598-1776849300-1776849300@espacepauljargot.crolles.fr
SUMMARY:(é)Mouvoir
DESCRIPTION:Par la Compagnie Entre Eux Deux Rives. Dans le cadre du festival D’un bout à l’autre 2026 \nAttention\, ce spectacle n’est pas conçu pour les enfants de plus de 3 ans. \nComme la nature qui l’entoure\, le très jeune enfant\, tout à son évolution quotidienne\, est le “lieu” des impermanences les plus fascinantes ! Il touche\, expérimente\, explore en déambulant\, et s’extasie devant le mouvement d’une feuille… \n(é)Mouvoir fait écho à ces processus de développement de l’enfant\, et l’accueille au coeur d’une nature symbolique dans laquelle il pourra déambuler\, sentir la pluie sur la peau\, traverser de grandes herbes\, s’étendre sur les feuilles mortes. Dans cet univers coloré\, sonore et tactile\, l’adulte est invité à sortir de l’état de guide pour devenir un moment compagnon de route.
URL:https://espacepauljargot.crolles.fr/info-evenement/emouvoir/2026-04-22/
LOCATION:Espace Paul Jargot\, 191 Rue François Mitterrand\, Crolles\, 38920\, France
CATEGORIES:Agenda,D'un bout à l'autre,Jeune public,Théâtre,Tous les spectacles
ATTACH;FMTTYPE=image/jpeg:https://espacepauljargot.crolles.fr/wp-content/uploads/2025/09/EMouvoir_Florence-Mary.jpg
END:VEVENT
END:VCALENDAR