BEGIN:VCALENDAR
VERSION:2.0
PRODID:-//Espace Paul Jargot - ECPv6.3.0//NONSGML v1.0//EN
CALSCALE:GREGORIAN
METHOD:PUBLISH
X-WR-CALNAME:Espace Paul Jargot
X-ORIGINAL-URL:https://espacepauljargot.crolles.fr
X-WR-CALDESC:évènements pour Espace Paul Jargot
REFRESH-INTERVAL;VALUE=DURATION:PT1H
X-Robots-Tag:noindex
X-PUBLISHED-TTL:PT1H
BEGIN:VTIMEZONE
TZID:Europe/Paris
BEGIN:DAYLIGHT
TZOFFSETFROM:+0100
TZOFFSETTO:+0200
TZNAME:CEST
DTSTART:20230326T010000
END:DAYLIGHT
BEGIN:STANDARD
TZOFFSETFROM:+0200
TZOFFSETTO:+0100
TZNAME:CET
DTSTART:20231029T010000
END:STANDARD
END:VTIMEZONE
BEGIN:VEVENT
DTSTART;TZID=Europe/Paris:20230224T203000
DTEND;TZID=Europe/Paris:20230224T203000
DTSTAMP:20260423T095755
CREATED:20230118T105706Z
LAST-MODIFIED:20230215T155448Z
UID:2096-1677270600-1677270600@espacepauljargot.crolles.fr
SUMMARY:Une garderie sur le spectacle MU.e !
DESCRIPTION:Vos enfants sont jeunes et ne peuvent assister au spectacle qui n’est pas adapté pour eux ? Pas de souci\, la MJC s’occupe d’eux !\nA l’Espace Paul Jargot\, ils sont accueillis dès 4 ans par des personnels qualifiés de notre partenaire\, la MJC de Crolles\, autour d’activités ludiques. \nSeul impératif ? S’inscrire en billetterie avant le 21 février (la garderie sera annulée si le nombre d’inscrits est insuffisant)
URL:https://espacepauljargot.crolles.fr/info-evenement/une-garderie-sur-le-spectacle-mu-e/
LOCATION:Espace Paul Jargot\, 191 Rue François Mitterrand\, Crolles\, 38920\, France
CATEGORIES:Jeune public,Les occasions découvertes,Les spectacles,Théâtre
ATTACH;FMTTYPE=image/jpeg:https://espacepauljargot.crolles.fr/wp-content/uploads/2022/09/garderies.jpg
END:VEVENT
END:VCALENDAR