BEGIN:VCALENDAR
VERSION:2.0
PRODID:-//Espace Paul Jargot - ECPv6.3.0//NONSGML v1.0//EN
CALSCALE:GREGORIAN
METHOD:PUBLISH
X-ORIGINAL-URL:https://espacepauljargot.crolles.fr
X-WR-CALDESC:évènements pour Espace Paul Jargot
REFRESH-INTERVAL;VALUE=DURATION:PT1H
X-Robots-Tag:noindex
X-PUBLISHED-TTL:PT1H
BEGIN:VTIMEZONE
TZID:Europe/Paris
BEGIN:DAYLIGHT
TZOFFSETFROM:+0100
TZOFFSETTO:+0200
TZNAME:CEST
DTSTART:20210328T010000
END:DAYLIGHT
BEGIN:STANDARD
TZOFFSETFROM:+0200
TZOFFSETTO:+0100
TZNAME:CET
DTSTART:20211031T010000
END:STANDARD
END:VTIMEZONE
BEGIN:VEVENT
DTSTART;TZID=Europe/Paris:20210623T143000
DTEND;TZID=Europe/Paris:20210623T180000
DTSTAMP:20260424T173505
CREATED:20210617T114947Z
LAST-MODIFIED:20210622T144411Z
UID:983-1624458600-1624471200@espacepauljargot.crolles.fr
SUMMARY:Festival des Retrouvailles - Temps fort jeune public & familles
DESCRIPTION:La météo annonçant de forts risques d’orages\, nous vous donnons rendez-vous à la rentrée ! Tous les détails seront publiés sur le site dès que possible. \n  \nCe 23 juin\, tout commence allée des érables\, à 14h30\, avec la cie Déambule\, pour une performance dès 6 ans \nPuis la conteuse Véronique Pédréro\, de la compagnie Poussières d’Histoires\, vous guidera au son de sa voix et de l’accordéon jusqu’au parc et à l’école Charmanches \nDès 15h\, vous y retrouverez la compagnie Déambule (spectacle De danse\, leçon ! ) dès 6 ans\, puis du théâtre amateur avec la MJC\, d’autres contes en musique\, et la compagnie de L’Oiseau à plumes (spectacle Aricie\, la petite renarde qui faisait trop de bruit) dès 3 ans. \nUn goûter est prévu pour les enfants !
URL:https://espacepauljargot.crolles.fr/info-evenement/festival-des-retrouvailles-temps-fort-jeune-public-familles/
LOCATION:allée des Erables\, allée des érables\, crolles\, 38920\, France
CATEGORIES:Festival,Jeune public,La culture au pas de la porte
ATTACH;FMTTYPE=image/jpeg:https://espacepauljargot.crolles.fr/wp-content/uploads/2021/06/23-juin-scaled.jpg
END:VEVENT
END:VCALENDAR