BEGIN:VCALENDAR
VERSION:2.0
PRODID:-//Espace Paul Jargot - ECPv6.3.0//NONSGML v1.0//EN
CALSCALE:GREGORIAN
METHOD:PUBLISH
X-ORIGINAL-URL:https://espacepauljargot.crolles.fr
X-WR-CALDESC:évènements pour Espace Paul Jargot
REFRESH-INTERVAL;VALUE=DURATION:PT1H
X-Robots-Tag:noindex
X-PUBLISHED-TTL:PT1H
BEGIN:VTIMEZONE
TZID:Europe/Paris
BEGIN:DAYLIGHT
TZOFFSETFROM:+0100
TZOFFSETTO:+0200
TZNAME:CEST
DTSTART:20210328T010000
END:DAYLIGHT
BEGIN:STANDARD
TZOFFSETFROM:+0200
TZOFFSETTO:+0100
TZNAME:CET
DTSTART:20211031T010000
END:STANDARD
END:VTIMEZONE
BEGIN:VEVENT
DTSTART;TZID=Europe/Paris:20211218T110000
DTEND;TZID=Europe/Paris:20211218T114500
DTSTAMP:20260424T043722
CREATED:20210713T094600Z
LAST-MODIFIED:20210713T115913Z
UID:1226-1639825200-1639827900@espacepauljargot.crolles.fr
SUMMARY:Temps d'ateliers pour les enfants "A chacun son âge\, à chacun son loup"
DESCRIPTION:Ateliers proposés autour du spectacle Pierre et le loup présenté le 18 décembre à 18h30 \nPour les petits à partir de 4 ans Contes et histoires de loup \nRetrouvez les histoires très connues ou encore un peu secrètes autour du seigneur des montagnes… Pour rêver et se faire un peu peur\, juste ce qu’il faut ! \nPour les enfants de 7 à 12 ans Film d’animation Pierre et le loup\, de Suzie Templeton \nDans cet univers féérique et hostile\, les loups dévorent les canards et le petit Pierre\, qui vit seul avec son grand-père à la campagne\, est mis à rude épreuve. Mais le gamin\, poussé par un drôle d’oiseau et accompagné de son canard rêveur\, fait preuve d’un courage extraordinaire et parvient à vaincre le loup. Ce film d’animation offre un moment de pure magie\, d’enchantement et de féérie. \nDurée de chaque animation 45mn. Entrée libre
URL:https://espacepauljargot.crolles.fr/info-evenement/temps-dateliers-pour-les-enfants-a-chacun-son-age-a-chacun-son-loup/
LOCATION:Espace Paul Jargot\, 191 Rue François Mitterrand\, Crolles\, 38920\, France
CATEGORIES:Jeune public,Les ateliers
ATTACH;FMTTYPE=image/jpeg:https://espacepauljargot.crolles.fr/wp-content/uploads/2021/06/vignette_ateliers.jpg
END:VEVENT
END:VCALENDAR